BEGIN:VCALENDAR
VERSION:2.0
CALSCALE:GREGORIAN
PRODID:adamgibbons/ics
METHOD:PUBLISH
X-PUBLISHED-TTL:PT1H
BEGIN:VEVENT
UID:25@tucsontimeline.info
SUMMARY:Metal Village Block Party & Chicken Poop Bingo
DTSTAMP:20260423T084348Z
DTSTART:20240929T000000Z
DTEND:20240929T040000Z
DESCRIPTION:Free block party celebrating local small businesses with music\
	, vendors\, and\nchicken poop cash bingo benefiting Tucson Village Farm\, 
	on the Hop Shop bottle\nshop patio
URL:https://tucsontimeline.info/event/metal-village-block-party-and-chicken
	-poop-bingo
LOCATION:Hop Shop - 3230 N Dodge Blvd\, Tucson\, AZ 85716
STATUS:CONFIRMED
CATEGORIES:food,good causes,music,shopping
X-ALT-DESC;FMTTYPE=text/html:<p>Free block party celebrating local small bu
	sinesses with music, vendors, and chicken poop cash bingo benefiting Tucso
	n Village Farm, on the Hop Shop bottle shop patio </p>
END:VEVENT
END:VCALENDAR
